BEGIN:VCALENDAR
VERSION:2.0
PRODID:-//wp-events-plugin.com//7.2.3.1//EN
TZID:Europe/Berlin
X-WR-TIMEZONE:Europe/Berlin
BEGIN:VEVENT
UID:300@lak-ooe.at
DTSTART;TZID=Europe/Berlin:20241008T090000
DTEND;TZID=Europe/Berlin:20241008T170000
DTSTAMP:20240606T080224Z
URL:https://www.lak-ooe.at/bildung/seminarprogramm/br-modul-i-grundzuege-d
 es-arbeitsrechts-3/
SUMMARY:BR Modul I | Grundzüge des Arbeitsrechts
DESCRIPTION:Modul I - Grundzüge des Arbeitsrechts\n\nArbeitsrechtliches Ba
 siswissen auf den Punkt gebracht: Von der Begründung von Arbeitsverhältn
 issen über Urlaub und Arbeitszeit bis hin zur Auflösung. Darüber hinaus
  geben unsere Referenten praktische Lösungen für alltägliche Fragen zum
  Arbeitsrecht.\n\nTermin:            Di\, 08.10.2024\, 9:00 –
  17:00 Uhr\n\nOrt:                    Landhotel Schicklb
 erg\, Schicklberg 1\, 4550 Kremsmünster\n\nInhalt:               
 Grundlagen\, Aufbau Rechtsordnung\, Abfertigung\, Arbeitszeit (Überstunde
 n\, Ruhezeiten\, Feiertage)\, Urlaubsrecht\, Pflegefreistellung\, Auflösu
 ng Dienstverhältnis\n\nWICHTIG ZU WISSEN …\n\n 	Die BR-Module werden in
  kleinen Gruppen (6 – 12 Personen) abgehalten.\n 	Alle Module sind Schul
 ungsveranstaltungen im Sinne der Betriebsverfassung.\n
CATEGORIES:Aus- und Weiterbildungen für LAK-Mitglieder sowie
 Interessierte
LOCATION:Landhotel Schicklberg\, Schicklberg 1\, Kremsmünster\, Oberöster
 reich\, 4550\, Österreich
X-APPLE-STRUCTURED-LOCATION;VALUE=URI;X-ADDRESS=Schicklberg 1\, Kremsmünst
 er\, Oberösterreich\, 4550\, Österreich;X-APPLE-RADIUS=100;X-TITLE=Landh
 otel Schicklberg:geo:0,0
END:VEVENT
BEGIN:VTIMEZONE
TZID:Europe/Berlin
X-LIC-LOCATION:Europe/Berlin
BEGIN:DAYLIGHT
DTSTART:20240331T030000
TZOFFSETFROM:+0100
TZOFFSETTO:+0200
TZNAME:CEST
END:DAYLIGHT
END:VTIMEZONE
END:VCALENDAR